BEGIN:VCALENDAR
VERSION:2.0
PRODID:-//Squarespace Inc/Squarespace 6//v6//EN
BEGIN:VEVENT
UID:564d18cae4b08e7c2d4f2df4@squarespace.com
DTSTAMP:20160120T011032Z
DTSTART:20160526T210000Z
DTEND:20160527T040000Z
SUMMARY:Christchurch - Level 1 (Advanced) Enduro/Trail\, 27 May 2016
END:VEVENT
END:VCALENDAR
