BEGIN:VCALENDAR
VERSION:2.0
PRODID:-//Squarespace Inc/Squarespace 6//v6//EN
BEGIN:VEVENT
UID:562416c1e4b083b724b82920@squarespace.com
DTSTAMP:20161114T213347Z
DTSTART:20161126T200000Z
DTEND:20161127T030000Z
SUMMARY:Berrima - Level 1 Enduro / Trail Coaching (Advanced) - 27 November 
 2016
END:VEVENT
END:VCALENDAR
