BEGIN:VCALENDAR
VERSION:2.0
PRODID:-//Squarespace Inc/Squarespace 6//v6//EN
BEGIN:VEVENT
UID:561dad7ce4b039470e9a1965@squarespace.com
DTSTAMP:20161114T213915Z
DTSTART:20170127T200000Z
DTEND:20170128T030000Z
SUMMARY:Berrima - Level 1\, Enduro / Trail Coaching (Intermediate) - 28 Jan
 uary 2017
END:VEVENT
END:VCALENDAR
