BEGIN:VCALENDAR
VERSION:2.0
PRODID:-//Squarespace Inc/Squarespace 6//v6//EN
BEGIN:VEVENT
UID:55f248d0e4b0355f89ac5ace@squarespace.com
DTSTAMP:20161114T213208Z
DTSTART:20161124T200000Z
DTEND:20161125T030000Z
SUMMARY:Berrima - Adventure Bike / Dual-Purpose Coaching - November 25 2016
END:VEVENT
END:VCALENDAR
