BEGIN:VCALENDAR
VERSION:2.0
PRODID:-//Squarespace Inc/Squarespace 6//v6//EN
BEGIN:VEVENT
UID:55f23c2be4b0c55316449f97@squarespace.com
DTSTAMP:20151119T000833Z
DTSTART:20160209T200000Z
DTEND:20160210T030000Z
SUMMARY:Auckland- Enduro/Trail Coaching Level 1 - 10 February 2016
END:VEVENT
END:VCALENDAR
