BEGIN:VCALENDAR
VERSION:2.0
PRODID:-//Squarespace Inc/Squarespace 6//v6//EN
BEGIN:VEVENT
UID:55f24b5ee4b0391c757bcc5b@squarespace.com
DTSTAMP:20151122T221143Z
DTSTART:20160527T210000Z
DTEND:20160528T043000Z
SUMMARY:Christchurch - Level 1 (Intermediate)\, 28 May 2016
END:VEVENT
END:VCALENDAR
