BEGIN:VCALENDAR
VERSION:2.0
PRODID:-//Squarespace Inc/Squarespace 6//v6//EN
BEGIN:VEVENT
UID:561dac53e4b00071739cf3f2@squarespace.com
DTSTAMP:20161114T213745Z
DTSTART:20161210T200000Z
DTEND:20161211T030000Z
SUMMARY:Melbourne - Level 1\, Enduro / Trail coaching (Intermediate/Advance
 d) 11 December 2016
END:VEVENT
END:VCALENDAR
