BEGIN:VCALENDAR
VERSION:2.0
PRODID:-//Squarespace Inc/Squarespace 6//v6//EN
BEGIN:VEVENT
UID:55f24fa9e4b0f00150b63e78@squarespace.com
DTSTAMP:20161114T213735Z
DTSTART:20161209T200000Z
DTEND:20161210T030000Z
SUMMARY:Melbourne - Level 1\, Enduro / Trail coaching (Beginner/Intermediat
 e) 10 December 2016
END:VEVENT
END:VCALENDAR
