BEGIN:VCALENDAR
VERSION:2.0
PRODID:-//Squarespace Inc/Squarespace 6//v6//EN
BEGIN:VEVENT
UID:55f24f20e4b0d9d331c51f36@squarespace.com
DTSTAMP:20161114T213704Z
DTSTART:20161208T200000Z
DTEND:20161209T033000Z
SUMMARY:Melbourne - Level 1\, Enduro / Trail coaching (Intermediate/Advance
 d) 9 December 2016
END:VEVENT
END:VCALENDAR
