BEGIN:VCALENDAR
VERSION:2.0
PRODID:-//Squarespace Inc/Squarespace 6//v6//EN
BEGIN:VEVENT
UID:55f24c93e4b02bb71473e654@squarespace.com
DTSTAMP:20161218T214941Z
DTSTART:20170128T200000Z
DTEND:20170129T030000Z
SUMMARY:Berrima - Level 1\, Enduro / Trail coaching (advanced) - 29 January 
 2017
END:VEVENT
END:VCALENDAR
