BEGIN:VCALENDAR
VERSION:2.0
PRODID:-//Squarespace Inc/Squarespace 6//v6//EN
BEGIN:VEVENT
UID:55f23e5de4b0eab704a8f1dc@squarespace.com
DTSTAMP:20170605T221449Z
DTSTART:20171116T203000Z
DTEND:20171117T020000Z
SUMMARY:Thames - Adventure Basics\, Friday 17 November 2017
END:VEVENT
END:VCALENDAR
