BEGIN:VCALENDAR
VERSION:2.0
PRODID:-//Squarespace Inc/Squarespace 6//v6//EN
BEGIN:VEVENT
UID:55f25259e4b07b1c9b741ab0@squarespace.com
DTSTAMP:20151019T031808Z
DTSTART:20151022T200000Z
DTEND:20151023T030000Z
SUMMARY:Berrima - Adventure Riding Course - October 23 SOLD OUT
END:VEVENT
END:VCALENDAR
