BEGIN:VCALENDAR
VERSION:2.0
PRODID:-//Squarespace Inc/Squarespace 6//v6//EN
BEGIN:VEVENT
UID:56241721e4b055379f4a602a@squarespace.com
DTSTAMP:20161114T213304Z
DTSTART:20161125T200000Z
DTEND:20161126T030000Z
SUMMARY:Berrima - Level 1 Enduro / Trail Coaching (Intermediate) 26 Novembe
 r 2016
END:VEVENT
END:VCALENDAR
