BEGIN:VCALENDAR
VERSION:2.0
PRODID:-//Squarespace Inc/Squarespace 6//v6//EN
BEGIN:VEVENT
UID:561daefce4b0383208b75ae6@squarespace.com
DTSTAMP:20160526T071927Z
DTSTART:20170126T200000Z
DTEND:20170127T030000Z
SUMMARY:Berrima - Adventure/Dual Purpose clinic - 27 January 2017
END:VEVENT
END:VCALENDAR
