BEGIN:VCALENDAR
VERSION:2.0
PRODID:-//Squarespace Inc/Squarespace 6//v6//EN
BEGIN:VEVENT
UID:55f23a60e4b0dbda5ff09156@squarespace.com
DTSTAMP:20161218T215047Z
DTSTART:20170422T210000Z
DTEND:20170423T040000Z
SUMMARY:Thames- Enduro/Trail Coaching Level 1 - 23 April 2017
END:VEVENT
END:VCALENDAR
